BEGIN:VCALENDAR
VERSION:2.0
PRODID:-//wp-events-plugin.com//7.2.3.1//EN
TZID:Europe/Berlin
X-WR-TIMEZONE:Europe/Berlin
BEGIN:VEVENT
UID:11@stolpersteine-muenchen.de
DTSTART;TZID=Europe/Berlin:20240912T150000
DTEND;TZID=Europe/Berlin:20240912T160000
DTSTAMP:20240905T082644Z
URL:https://www.stolpersteine-muenchen.de/veranstaltungen/12-september-ver
 legung-von-stolpersteinen-in-der-tegernseer-landstrasse-26/
SUMMARY:12. September Verlegung von Stolpersteinen in der Tegernseer Landst
 raße  26
DESCRIPTION:Verlegung von Stolpersteinen in München\n\n12. September 15 Uh
 r Tegernseer Landstraße 26\n\nFür die Familie Katz: David\, Lina\, Greta
  und Emilie\n\nDamit erhöht sich die Anzahl der Stolpersteine in München
  auf 294.\n\n294 Menschen die aus der Vergessenheit gerettet wurden.\n\n29
 4 Mahner die uns zeigen\, wohin Antisemitismus\, Faschismus und Haß führ
 en.\n\n120.000 Stolpersteine in 1800 Städten in 31 Ländern.\n\nDas grö
 ßte Gedenkprojekt der Welt.\n\nDas größte Gedenkprojekt\, das die Welt 
 je gesehen hat.\n\nInformationen: Terry Swartzberg (0170) 473 3572\n\ninit
 iative@stolpersteine-muenchen.de
END:VEVENT
BEGIN:VTIMEZONE
TZID:Europe/Berlin
X-LIC-LOCATION:Europe/Berlin
BEGIN:DAYLIGHT
DTSTART:20240331T030000
TZOFFSETFROM:+0100
TZOFFSETTO:+0200
TZNAME:CEST
END:DAYLIGHT
END:VTIMEZONE
END:VCALENDAR