BEGIN:VCALENDAR
VERSION:2.0
PRODID:-//wp-events-plugin.com//7.2.3.1//EN
TZID:Europe/Berlin
X-WR-TIMEZONE:Europe/Berlin
BEGIN:VEVENT
UID:30@stolpersteine-muenchen.de
DTSTART;TZID=Europe/Berlin:20260126T180000
DTEND;TZID=Europe/Berlin:20260126T190000
DTSTAMP:20260126T135319Z
URL:https://www.stolpersteine-muenchen.de/veranstaltungen/faces-for-the-na
 mes-juedisches-leben-in-sendling/
SUMMARY:Faces for the Names - Jüdisches Leben in Sendling
DESCRIPTION:Mit Beiträgen der Schüler:innen zu den Theman Holocaust\, Sto
 lpersteine\, Widerstand und Demokratie\n\nDante-Gymnasium\, Wackersbegerst
 raße 61
END:VEVENT
BEGIN:VTIMEZONE
TZID:Europe/Berlin
X-LIC-LOCATION:Europe/Berlin
BEGIN:STANDARD
DTSTART:20251026T020000
TZOFFSETFROM:+0200
TZOFFSETTO:+0100
TZNAME:CET
END:STANDARD
END:VTIMEZONE
END:VCALENDAR