BEGIN:VCALENDAR
VERSION:2.0
PRODID:-//wp-events-plugin.com//7.2.3.1//EN
TZID:Europe/Berlin
X-WR-TIMEZONE:Europe/Berlin
BEGIN:VEVENT
UID:19@stolpersteine-muenchen.de
DTSTART;TZID=Europe/Berlin:20250323T160000
DTEND;TZID=Europe/Berlin:20250323T170000
DTSTAMP:20250312T075738Z
URL:https://www.stolpersteine-muenchen.de/veranstaltungen/verlegung-am-23-
 maerz-um-16-uhr-in-der-welfenstrasse-15/
SUMMARY:Verlegung am 23. März um 16. Uhr in der Welfenstraße 15
DESCRIPTION:Josef Zollner und Tochter Johanna Zollner\n\n__________________
 ________________\n\n\nBegrüßung:\n\nTerry Swartzberg\n\nDie nationalsozi
 alistischen "Euthanasie"-Morde\n\nDr. Sybille von Tiedemann\n\nJohanna Zol
 lner\, "Euthansie"-Opfer im Nationalsozialismus\n\nDr. Claudie Paye\n\nJos
 ef Zollner\, KZ-Dachau-Überlebender Zeuge Jehovas\n\nChristoph Wilker\n\n
END:VEVENT
BEGIN:VTIMEZONE
TZID:Europe/Berlin
X-LIC-LOCATION:Europe/Berlin
BEGIN:STANDARD
DTSTART:20241027T020000
TZOFFSETFROM:+0200
TZOFFSETTO:+0100
TZNAME:CET
END:STANDARD
END:VTIMEZONE
END:VCALENDAR